BEGIN:VCALENDAR
VERSION:2.0
PRODID:-//Peabody TV - ECPv6.15.14//NONSGML v1.0//EN
CALSCALE:GREGORIAN
METHOD:PUBLISH
X-WR-CALNAME:Peabody TV
X-ORIGINAL-URL:https://peabodytv.org
X-WR-CALDESC:Events for Peabody TV
REFRESH-INTERVAL;VALUE=DURATION:PT1H
X-Robots-Tag:noindex
X-PUBLISHED-TTL:PT1H
BEGIN:VTIMEZONE
TZID:America/New_York
BEGIN:DAYLIGHT
TZOFFSETFROM:-0500
TZOFFSETTO:-0400
TZNAME:EDT
DTSTART:20220313T070000
END:DAYLIGHT
BEGIN:STANDARD
TZOFFSETFROM:-0400
TZOFFSETTO:-0500
TZNAME:EST
DTSTART:20221106T060000
END:STANDARD
BEGIN:DAYLIGHT
TZOFFSETFROM:-0500
TZOFFSETTO:-0400
TZNAME:EDT
DTSTART:20230312T070000
END:DAYLIGHT
BEGIN:STANDARD
TZOFFSETFROM:-0400
TZOFFSETTO:-0500
TZNAME:EST
DTSTART:20231105T060000
END:STANDARD
BEGIN:DAYLIGHT
TZOFFSETFROM:-0500
TZOFFSETTO:-0400
TZNAME:EDT
DTSTART:20240310T070000
END:DAYLIGHT
BEGIN:STANDARD
TZOFFSETFROM:-0400
TZOFFSETTO:-0500
TZNAME:EST
DTSTART:20241103T060000
END:STANDARD
BEGIN:DAYLIGHT
TZOFFSETFROM:-0500
TZOFFSETTO:-0400
TZNAME:EDT
DTSTART:20250309T070000
END:DAYLIGHT
BEGIN:STANDARD
TZOFFSETFROM:-0400
TZOFFSETTO:-0500
TZNAME:EST
DTSTART:20251102T060000
END:STANDARD
END:VTIMEZONE
BEGIN:VEVENT
DTSTART;VALUE=DATE:20241130
DTEND;VALUE=DATE:20241201
DTSTAMP:20260423T154502
CREATED:20241104T212542Z
LAST-MODIFIED:20241104T212542Z
UID:10000404-1732924800-1733011199@peabodytv.org
SUMMARY:Endicott College Football Placeholder - NCAA Tournament 2nd Round
DESCRIPTION:
URL:https://peabodytv.org/event/endicott-college-football-placeholder-ncaa-tournament-2nd-round-2/
CATEGORIES:Sports
ORGANIZER;CN="info@peabodytv.com":MAILTO:info@peabodytv.com
END:VEVENT
BEGIN:VEVENT
DTSTART;VALUE=DATE:20241130
DTEND;VALUE=DATE:20241201
DTSTAMP:20260423T154502
CREATED:20241104T212542Z
LAST-MODIFIED:20241118T192613Z
UID:10000403-1732924800-1733011199@peabodytv.org
SUMMARY:Endicott College Football Placeholder - NCAA Tournament 2nd Round
DESCRIPTION:
URL:https://peabodytv.org/event/endicott-college-football-placeholder-ncaa-tournament-2nd-round/
CATEGORIES:Sports
ORGANIZER;CN="info@peabodytv.com":MAILTO:info@peabodytv.com
END:VEVENT
BEGIN:VEVENT
DTSTART;TZID=America/New_York:20241128T100000
DTEND;TZID=America/New_York:20241128T100000
DTSTAMP:20260423T154502
CREATED:20240614T195547Z
LAST-MODIFIED:20241128T141033Z
UID:10000349-1732788000-1732788000@peabodytv.org
SUMMARY:PVMHS Varsity Football vs. Saugus
DESCRIPTION:TBD- might just get a copy from Saugus; otherwise would be Steve w/ work-study
URL:https://peabodytv.org/event/pvmhs-varsity-football-vs-saugus-2/
LOCATION:Saugus High School
CATEGORIES:Sports
ORGANIZER;CN="info@peabodytv.com":MAILTO:info@peabodytv.com
END:VEVENT
BEGIN:VEVENT
DTSTART;TZID=America/New_York:20241128T100000
DTEND;TZID=America/New_York:20241128T100000
DTSTAMP:20260423T154502
CREATED:20240614T151043Z
LAST-MODIFIED:20240614T192601Z
UID:10000343-1732788000-1732788000@peabodytv.org
SUMMARY:PVMHS Varsity Football vs. Saugus
DESCRIPTION:TBD- might just get a copy from Saugus; otherwise would be Steve w/ work-study
URL:https://peabodytv.org/event/pvmhs-varsity-football-vs-saugus/
LOCATION:Saugus High School
CATEGORIES:Sports
ORGANIZER;CN="info@peabodytv.com":MAILTO:info@peabodytv.com
END:VEVENT
BEGIN:VEVENT
DTSTART;VALUE=DATE:20241123
DTEND;VALUE=DATE:20241124
DTSTAMP:20260423T154502
CREATED:20240709T202603Z
LAST-MODIFIED:20241123T235536Z
UID:10000383-1732320000-1732406399@peabodytv.org
SUMMARY:Endicott College Football Placeholder - NCAA Tournament 1st Round
DESCRIPTION:
URL:https://peabodytv.org/event/endicott-college-football-placeholder-ncaa-tournament-1st-round/
CATEGORIES:Sports
END:VEVENT
BEGIN:VEVENT
DTSTART;VALUE=DATE:20241122
DTEND;VALUE=DATE:20241123
DTSTAMP:20260423T154502
CREATED:20240709T202601Z
LAST-MODIFIED:20241118T224109Z
UID:10000372-1732233600-1732319999@peabodytv.org
SUMMARY:PVMHS Football - Reserved for Potential MIAA Game
DESCRIPTION:
URL:https://peabodytv.org/event/pvmhs-football-reserved-for-potential-miaa-game/
CATEGORIES:Sports
END:VEVENT
BEGIN:VEVENT
DTSTART;TZID=America/New_York:20241115T190000
DTEND;TZID=America/New_York:20241115T210000
DTSTAMP:20260423T154502
CREATED:20240709T202602Z
LAST-MODIFIED:20241116T015702Z
UID:10000374-1731697200-1731704400@peabodytv.org
SUMMARY:PVMHS Football vs Chelmsford
DESCRIPTION:
URL:https://peabodytv.org/event/pvmhs-football-reserved-for-potential-miaa-game-3/
CATEGORIES:Sports
END:VEVENT
BEGIN:VEVENT
DTSTART;TZID=America/New_York:20241109T120000
DTEND;TZID=America/New_York:20241109T160000
DTSTAMP:20260423T154502
CREATED:20240223T205853Z
LAST-MODIFIED:20241109T203057Z
UID:10000294-1731153600-1731168000@peabodytv.org
SUMMARY:Endicott College Football vs Husson
DESCRIPTION:
URL:https://peabodytv.org/event/endicott-college-football-placeholder-5/
CATEGORIES:Sports
ORGANIZER;CN="info@peabodytv.com":MAILTO:info@peabodytv.com
END:VEVENT
BEGIN:VEVENT
DTSTART;VALUE=DATE:20241109
DTEND;VALUE=DATE:20241110
DTSTAMP:20260423T154502
CREATED:20240223T205854Z
LAST-MODIFIED:20240223T205854Z
UID:10000297-1731110400-1731196799@peabodytv.org
SUMMARY:Endicott College Football Placeholder
DESCRIPTION:
URL:https://peabodytv.org/event/endicott-college-football-placeholder-7/
CATEGORIES:Sports
ORGANIZER;CN="info@peabodytv.com":MAILTO:info@peabodytv.com
END:VEVENT
BEGIN:VEVENT
DTSTART;TZID=America/New_York:20241108T183000
DTEND;TZID=America/New_York:20241108T213000
DTSTAMP:20260423T154502
CREATED:20240709T202602Z
LAST-MODIFIED:20241109T022651Z
UID:10000373-1731090600-1731101400@peabodytv.org
SUMMARY:PVMHS Football MIAA Round of 16
DESCRIPTION:
URL:https://peabodytv.org/event/pvmhs-football-reserved-for-potential-miaa-game-2/
LOCATION:Away @ Winchester HS
CATEGORIES:Sports
ORGANIZER;CN="info@peabodytv.com":MAILTO:info@peabodytv.com
END:VEVENT
BEGIN:VEVENT
DTSTART;VALUE=DATE:20241108
DTEND;VALUE=DATE:20241109
DTSTAMP:20260423T154502
CREATED:20240709T202603Z
LAST-MODIFIED:20240709T202603Z
UID:10000380-1731024000-1731110399@peabodytv.org
SUMMARY:PVMHS Football - Reserved for Potential MIAA Game
DESCRIPTION:
URL:https://peabodytv.org/event/pvmhs-football-reserved-for-potential-miaa-game-5/
CATEGORIES:Sports
END:VEVENT
BEGIN:VEVENT
DTSTART;TZID=America/New_York:20241102T120000
DTEND;TZID=America/New_York:20241102T160000
DTSTAMP:20260423T154502
CREATED:20240223T205852Z
LAST-MODIFIED:20241102T192748Z
UID:10000293-1730548800-1730563200@peabodytv.org
SUMMARY:Endicott College Football vs Nichols
DESCRIPTION:
URL:https://peabodytv.org/event/endicott-college-football-placeholder-3/
CATEGORIES:Sports
ORGANIZER;CN="info@peabodytv.com":MAILTO:info@peabodytv.com
END:VEVENT
BEGIN:VEVENT
DTSTART;VALUE=DATE:20241102
DTEND;VALUE=DATE:20241103
DTSTAMP:20260423T154502
CREATED:20240223T205853Z
LAST-MODIFIED:20240223T205853Z
UID:10000296-1730505600-1730591999@peabodytv.org
SUMMARY:Endicott College Football Placeholder
DESCRIPTION:
URL:https://peabodytv.org/event/endicott-college-football-placeholder-6/
CATEGORIES:Sports
ORGANIZER;CN="info@peabodytv.com":MAILTO:info@peabodytv.com
END:VEVENT
BEGIN:VEVENT
DTSTART;VALUE=DATE:20241101
DTEND;VALUE=DATE:20241102
DTSTAMP:20260423T154502
CREATED:20240709T202602Z
LAST-MODIFIED:20240709T202602Z
UID:10000379-1730419200-1730505599@peabodytv.org
SUMMARY:PVMHS Football - Reserved for Potential MIAA Game
DESCRIPTION:
URL:https://peabodytv.org/event/pvmhs-football-reserved-for-potential-miaa-game-4/
CATEGORIES:Sports
END:VEVENT
BEGIN:VEVENT
DTSTART;TZID=America/New_York:20241025T190000
DTEND;TZID=America/New_York:20241025T220000
DTSTAMP:20260423T154502
CREATED:20240709T202602Z
LAST-MODIFIED:20240709T202602Z
UID:10000378-1729882800-1729893600@peabodytv.org
SUMMARY:PVMHS Football vs. Danvers
DESCRIPTION:
URL:https://peabodytv.org/event/pvmhs-football-vs-danvers-2/
CATEGORIES:Sports
ORGANIZER;CN="info@peabodytv.com":MAILTO:info@peabodytv.com
END:VEVENT
BEGIN:VEVENT
DTSTART;TZID=America/New_York:20241025T190000
DTEND;TZID=America/New_York:20241025T220000
DTSTAMP:20260423T154502
CREATED:20240709T202601Z
LAST-MODIFIED:20241026T015451Z
UID:10000371-1729882800-1729893600@peabodytv.org
SUMMARY:PVMHS Football vs. Danvers SENIOR NIGHT
DESCRIPTION:
URL:https://peabodytv.org/event/pvmhs-football-vs-danvers/
CATEGORIES:Sports
ORGANIZER;CN="info@peabodytv.com":MAILTO:info@peabodytv.com
END:VEVENT
BEGIN:VEVENT
DTSTART;TZID=America/New_York:20241004T190000
DTEND;TZID=America/New_York:20241004T220000
DTSTAMP:20260423T154502
CREATED:20240709T202602Z
LAST-MODIFIED:20240709T202602Z
UID:10000377-1728068400-1728079200@peabodytv.org
SUMMARY:PVMHS Football vs. Masconomet
DESCRIPTION:
URL:https://peabodytv.org/event/pvmhs-football-vs-masconomet-2/
CATEGORIES:Sports
ORGANIZER;CN="info@peabodytv.com":MAILTO:info@peabodytv.com
END:VEVENT
BEGIN:VEVENT
DTSTART;TZID=America/New_York:20241004T190000
DTEND;TZID=America/New_York:20241004T220000
DTSTAMP:20260423T154502
CREATED:20240709T202601Z
LAST-MODIFIED:20241005T011043Z
UID:10000370-1728068400-1728079200@peabodytv.org
SUMMARY:PVMHS Football vs. Masconomet
DESCRIPTION:
URL:https://peabodytv.org/event/pvmhs-football-vs-masconomet/
CATEGORIES:Sports
ORGANIZER;CN="info@peabodytv.com":MAILTO:info@peabodytv.com
END:VEVENT
BEGIN:VEVENT
DTSTART;TZID=America/New_York:20240928T120000
DTEND;TZID=America/New_York:20240928T160000
DTSTAMP:20260423T154502
CREATED:20240223T205851Z
LAST-MODIFIED:20240928T191229Z
UID:10000292-1727524800-1727539200@peabodytv.org
SUMMARY:Endicott College Football vs Rensselaer
DESCRIPTION:
URL:https://peabodytv.org/event/endicott-college-football-placeholder-2/
CATEGORIES:Sports
ORGANIZER;CN="info@peabodytv.com":MAILTO:info@peabodytv.com
END:VEVENT
BEGIN:VEVENT
DTSTART;VALUE=DATE:20240928
DTEND;VALUE=DATE:20240929
DTSTAMP:20260423T154502
CREATED:20240223T205852Z
LAST-MODIFIED:20240223T205852Z
UID:10000295-1727481600-1727567999@peabodytv.org
SUMMARY:Endicott College Football Placeholder
DESCRIPTION:
URL:https://peabodytv.org/event/endicott-college-football-placeholder-4/
CATEGORIES:Sports
ORGANIZER;CN="info@peabodytv.com":MAILTO:info@peabodytv.com
END:VEVENT
BEGIN:VEVENT
DTSTART;TZID=America/New_York:20240921T120000
DTEND;TZID=America/New_York:20240921T160000
DTSTAMP:20260423T154502
CREATED:20240223T205851Z
LAST-MODIFIED:20240921T194222Z
UID:10000291-1726920000-1726934400@peabodytv.org
SUMMARY:Endicott College Football vs Hilbert
DESCRIPTION:
URL:https://peabodytv.org/event/endicott-college-football-placeholder/
CATEGORIES:Sports
ORGANIZER;CN="info@peabodytv.com":MAILTO:info@peabodytv.com
END:VEVENT
BEGIN:VEVENT
DTSTART;TZID=America/New_York:20240913T190000
DTEND;TZID=America/New_York:20240913T220000
DTSTAMP:20260423T154502
CREATED:20240709T202601Z
LAST-MODIFIED:20240914T011048Z
UID:10000382-1726254000-1726264800@peabodytv.org
SUMMARY:PVMHS Football vs. Winchester
DESCRIPTION:
URL:https://peabodytv.org/event/pvmhs-football-vs-winchester/
CATEGORIES:Sports
ORGANIZER;CN="info@peabodytv.com":MAILTO:info@peabodytv.com
END:VEVENT
BEGIN:VEVENT
DTSTART;TZID=America/New_York:20240913T190000
DTEND;TZID=America/New_York:20240913T220000
DTSTAMP:20260423T154502
CREATED:20240709T202601Z
LAST-MODIFIED:20240709T202601Z
UID:10000376-1726254000-1726264800@peabodytv.org
SUMMARY:PVMHS Football vs. Winchester
DESCRIPTION:
URL:https://peabodytv.org/event/pvmhs-football-vs-winchester-3/
CATEGORIES:Sports
ORGANIZER;CN="info@peabodytv.com":MAILTO:info@peabodytv.com
END:VEVENT
BEGIN:VEVENT
DTSTART;TZID=America/New_York:20240906T190000
DTEND;TZID=America/New_York:20240906T220000
DTSTAMP:20260423T154502
CREATED:20240709T202601Z
LAST-MODIFIED:20240709T202601Z
UID:10000375-1725649200-1725660000@peabodytv.org
SUMMARY:PVMHS Football vs. Melrose
DESCRIPTION:
URL:https://peabodytv.org/event/pvmhs-football-vs-melrose-3/
CATEGORIES:Sports
ORGANIZER;CN="info@peabodytv.com":MAILTO:info@peabodytv.com
END:VEVENT
BEGIN:VEVENT
DTSTART;TZID=America/New_York:20240906T190000
DTEND;TZID=America/New_York:20240906T220000
DTSTAMP:20260423T154502
CREATED:20240709T202600Z
LAST-MODIFIED:20240907T014150Z
UID:10000381-1725649200-1725660000@peabodytv.org
SUMMARY:PVMHS Football vs. Melrose
DESCRIPTION:
URL:https://peabodytv.org/event/pvmhs-football-vs-melrose/
CATEGORIES:Sports
ORGANIZER;CN="info@peabodytv.com":MAILTO:info@peabodytv.com
END:VEVENT
BEGIN:VEVENT
DTSTART;TZID=America/New_York:20231123T100000
DTEND;TZID=America/New_York:20231123T130000
DTSTAMP:20260423T154502
CREATED:20231026T163602Z
LAST-MODIFIED:20231123T172701Z
UID:10000122-1700733600-1700744400@peabodytv.org
SUMMARY:PVMHS Football vs. Saugus
DESCRIPTION:
URL:https://peabodytv.org/event/pvmhs-football-vs-saugus/
LOCATION:Home
CATEGORIES:Sports
ORGANIZER;CN="info@peabodytv.com":MAILTO:info@peabodytv.com
END:VEVENT
BEGIN:VEVENT
DTSTART;VALUE=DATE:20231117
DTEND;VALUE=DATE:20231118
DTSTAMP:20260423T154502
CREATED:20231026T163602Z
LAST-MODIFIED:20231114T202713Z
UID:10000121-1700179200-1700265599@peabodytv.org
SUMMARY:PVMHS Football - TBD (Playoffs)
DESCRIPTION:
URL:https://peabodytv.org/event/pvmhs-football-tbd-playoffs-3/
CATEGORIES:Sports
ORGANIZER;CN="info@peabodytv.com":MAILTO:info@peabodytv.com
END:VEVENT
BEGIN:VEVENT
DTSTART;TZID=America/New_York:20231111T120000
DTEND;TZID=America/New_York:20231111T120000
DTSTAMP:20260423T154502
CREATED:20231026T163601Z
LAST-MODIFIED:20231111T165535Z
UID:10000120-1699704000-1699704000@peabodytv.org
SUMMARY:Endicott College Football vs. University of NE (Senior Day)
DESCRIPTION:
URL:https://peabodytv.org/event/endicott-college-football-vs-university-of-ne-senior-day/
LOCATION:Endicott College – Hempsted Stadium
CATEGORIES:Sports
ORGANIZER;CN="info@peabodytv.com":MAILTO:info@peabodytv.com
END:VEVENT
BEGIN:VEVENT
DTSTART;TZID=America/New_York:20231110T180000
DTEND;TZID=America/New_York:20231110T210000
DTSTAMP:20260423T154502
CREATED:20231026T163601Z
LAST-MODIFIED:20231111T015535Z
UID:10000119-1699639200-1699650000@peabodytv.org
SUMMARY:PVMHS Football vs Barnstable (MIAA Elite Eight)
DESCRIPTION:
URL:https://peabodytv.org/event/pvmhs-football-tbd-playoffs-2/
CATEGORIES:Sports
ORGANIZER;CN="info@peabodytv.com":MAILTO:info@peabodytv.com
END:VEVENT
BEGIN:VEVENT
DTSTART;TZID=America/New_York:20231104T120000
DTEND;TZID=America/New_York:20231104T120000
DTSTAMP:20260423T154502
CREATED:20231026T163600Z
LAST-MODIFIED:20231104T155533Z
UID:10000118-1699099200-1699099200@peabodytv.org
SUMMARY:Endicott College Football vs. Curry
DESCRIPTION:
URL:https://peabodytv.org/event/endicott-college-football-vs-curry/
LOCATION:Endicott College – Hempsted Stadium
CATEGORIES:Sports
ORGANIZER;CN="info@peabodytv.com":MAILTO:info@peabodytv.com
END:VEVENT
END:VCALENDAR