BEGIN:VCALENDAR
VERSION:2.0
PRODID:-//Peabody TV - ECPv6.15.14//NONSGML v1.0//EN
CALSCALE:GREGORIAN
METHOD:PUBLISH
X-WR-CALNAME:Peabody TV
X-ORIGINAL-URL:https://peabodytv.org
X-WR-CALDESC:Events for Peabody TV
REFRESH-INTERVAL;VALUE=DURATION:PT1H
X-Robots-Tag:noindex
X-PUBLISHED-TTL:PT1H
BEGIN:VTIMEZONE
TZID:America/New_York
BEGIN:DAYLIGHT
TZOFFSETFROM:-0500
TZOFFSETTO:-0400
TZNAME:EDT
DTSTART:20220313T070000
END:DAYLIGHT
BEGIN:STANDARD
TZOFFSETFROM:-0400
TZOFFSETTO:-0500
TZNAME:EST
DTSTART:20221106T060000
END:STANDARD
BEGIN:DAYLIGHT
TZOFFSETFROM:-0500
TZOFFSETTO:-0400
TZNAME:EDT
DTSTART:20230312T070000
END:DAYLIGHT
BEGIN:STANDARD
TZOFFSETFROM:-0400
TZOFFSETTO:-0500
TZNAME:EST
DTSTART:20231105T060000
END:STANDARD
BEGIN:DAYLIGHT
TZOFFSETFROM:-0500
TZOFFSETTO:-0400
TZNAME:EDT
DTSTART:20240310T070000
END:DAYLIGHT
BEGIN:STANDARD
TZOFFSETFROM:-0400
TZOFFSETTO:-0500
TZNAME:EST
DTSTART:20241103T060000
END:STANDARD
BEGIN:DAYLIGHT
TZOFFSETFROM:-0500
TZOFFSETTO:-0400
TZNAME:EDT
DTSTART:20250309T070000
END:DAYLIGHT
BEGIN:STANDARD
TZOFFSETFROM:-0400
TZOFFSETTO:-0500
TZNAME:EST
DTSTART:20251102T060000
END:STANDARD
END:VTIMEZONE
BEGIN:VEVENT
DTSTART;TZID=America/New_York:20240516T190000
DTEND;TZID=America/New_York:20240516T210000
DTSTAMP:20260425T134856
CREATED:20231218T174811Z
LAST-MODIFIED:20240516T232444Z
UID:10000288-1715886000-1715893200@peabodytv.org
SUMMARY:Planning Board Meeting
DESCRIPTION:
URL:https://peabodytv.org/event/planning-board-meeting-16/
LOCATION:City Hall – Wiggin Auditorium
CATEGORIES:Meetings
ORGANIZER;CN="info@peabodytv.com":MAILTO:info@peabodytv.com
END:VEVENT
BEGIN:VEVENT
DTSTART;TZID=America/New_York:20240502T190000
DTEND;TZID=America/New_York:20240502T210000
DTSTAMP:20260425T134856
CREATED:20231218T174758Z
LAST-MODIFIED:20240503T005537Z
UID:10000287-1714676400-1714683600@peabodytv.org
SUMMARY:Planning Board Meeting
DESCRIPTION:
URL:https://peabodytv.org/event/planning-board-meeting-15/
LOCATION:City Hall – Wiggin Auditorium
CATEGORIES:Meetings
ORGANIZER;CN="info@peabodytv.com":MAILTO:info@peabodytv.com
END:VEVENT
BEGIN:VEVENT
DTSTART;TZID=America/New_York:20240418T190000
DTEND;TZID=America/New_York:20240418T210000
DTSTAMP:20260425T134856
CREATED:20231218T174756Z
LAST-MODIFIED:20240419T004037Z
UID:10000286-1713466800-1713474000@peabodytv.org
SUMMARY:Planning Board Meeting
DESCRIPTION:
URL:https://peabodytv.org/event/planning-board-meeting-14/
LOCATION:City Hall – Wiggin Auditorium
CATEGORIES:Meetings
ORGANIZER;CN="info@peabodytv.com":MAILTO:info@peabodytv.com
END:VEVENT
BEGIN:VEVENT
DTSTART;TZID=America/New_York:20240404T190000
DTEND;TZID=America/New_York:20240404T210000
DTSTAMP:20260425T134856
CREATED:20231218T174742Z
LAST-MODIFIED:20240405T004202Z
UID:10000285-1712257200-1712264400@peabodytv.org
SUMMARY:Planning Board Meeting
DESCRIPTION:
URL:https://peabodytv.org/event/planning-board-meeting-13/
LOCATION:City Hall – Wiggin Auditorium
CATEGORIES:Meetings
ORGANIZER;CN="info@peabodytv.com":MAILTO:info@peabodytv.com
END:VEVENT
BEGIN:VEVENT
DTSTART;TZID=America/New_York:20240321T190000
DTEND;TZID=America/New_York:20240321T210000
DTSTAMP:20260425T134856
CREATED:20231218T174741Z
LAST-MODIFIED:20240322T005600Z
UID:10000284-1711047600-1711054800@peabodytv.org
SUMMARY:Planning Board Meeting
DESCRIPTION:
URL:https://peabodytv.org/event/planning-board-meeting-12/
LOCATION:City Hall – Wiggin Auditorium
CATEGORIES:Meetings
ORGANIZER;CN="info@peabodytv.com":MAILTO:info@peabodytv.com
END:VEVENT
BEGIN:VEVENT
DTSTART;TZID=America/New_York:20240307T190000
DTEND;TZID=America/New_York:20240307T210000
DTSTAMP:20260425T134856
CREATED:20231218T174738Z
LAST-MODIFIED:20240308T012540Z
UID:10000283-1709838000-1709845200@peabodytv.org
SUMMARY:Planning Board Meeting
DESCRIPTION:
URL:https://peabodytv.org/event/planning-board-meeting-11/
LOCATION:City Hall – Wiggin Auditorium
CATEGORIES:Meetings
ORGANIZER;CN="info@peabodytv.com":MAILTO:info@peabodytv.com
END:VEVENT
BEGIN:VEVENT
DTSTART;TZID=America/New_York:20240215T190000
DTEND;TZID=America/New_York:20240215T210000
DTSTAMP:20260425T134856
CREATED:20231218T174725Z
LAST-MODIFIED:20240216T011044Z
UID:10000282-1708023600-1708030800@peabodytv.org
SUMMARY:Planning Board Meeting
DESCRIPTION:
URL:https://peabodytv.org/event/planning-board-meeting-10/
LOCATION:City Hall – Wiggin Auditorium
CATEGORIES:Meetings
ORGANIZER;CN="info@peabodytv.com":MAILTO:info@peabodytv.com
END:VEVENT
BEGIN:VEVENT
DTSTART;TZID=America/New_York:20240201T190000
DTEND;TZID=America/New_York:20240201T210000
DTSTAMP:20260425T134856
CREATED:20231218T174723Z
LAST-MODIFIED:20240202T005547Z
UID:10000281-1706814000-1706821200@peabodytv.org
SUMMARY:Planning Board Meeting
DESCRIPTION:
URL:https://peabodytv.org/event/planning-board-meeting-9/
LOCATION:City Hall – Wiggin Auditorium
CATEGORIES:Meetings
ORGANIZER;CN="info@peabodytv.com":MAILTO:info@peabodytv.com
END:VEVENT
BEGIN:VEVENT
DTSTART;TZID=America/New_York:20240118T190000
DTEND;TZID=America/New_York:20240118T210000
DTSTAMP:20260425T134856
CREATED:20231218T174711Z
LAST-MODIFIED:20240119T012708Z
UID:10000280-1705604400-1705611600@peabodytv.org
SUMMARY:Planning Board Meeting
DESCRIPTION:
URL:https://peabodytv.org/event/planning-board-meeting-8/
LOCATION:City Hall – Wiggin Auditorium
CATEGORIES:Meetings
ORGANIZER;CN="info@peabodytv.com":MAILTO:info@peabodytv.com
END:VEVENT
BEGIN:VEVENT
DTSTART;TZID=America/New_York:20240104T190000
DTEND;TZID=America/New_York:20240104T210000
DTSTAMP:20260425T134856
CREATED:20231218T174708Z
LAST-MODIFIED:20240105T011245Z
UID:10000279-1704394800-1704402000@peabodytv.org
SUMMARY:Planning Board Meeting
DESCRIPTION:
URL:https://peabodytv.org/event/planning-board-meeting-7/
LOCATION:City Hall – Wiggin Auditorium
CATEGORIES:Meetings
ORGANIZER;CN="info@peabodytv.com":MAILTO:info@peabodytv.com
END:VEVENT
BEGIN:VEVENT
DTSTART;TZID=America/New_York:20231207T190000
DTEND;TZID=America/New_York:20231207T210000
DTSTAMP:20260425T134856
CREATED:20231026T163347Z
LAST-MODIFIED:20231026T163347Z
UID:10000091-1701975600-1701982800@peabodytv.org
SUMMARY:Planning Board Meeting
DESCRIPTION:
URL:https://peabodytv.org/event/planning-board-meeting-6/
LOCATION:City Hall – Wiggin Auditorium
CATEGORIES:Meetings
ORGANIZER;CN="info@peabodytv.com":MAILTO:info@peabodytv.com
END:VEVENT
BEGIN:VEVENT
DTSTART;TZID=America/New_York:20231207T190000
DTEND;TZID=America/New_York:20231207T210000
DTSTAMP:20260425T134856
CREATED:20231026T163346Z
LAST-MODIFIED:20231208T012635Z
UID:10000101-1701975600-1701982800@peabodytv.org
SUMMARY:Planning Board Meeting
DESCRIPTION:
URL:https://peabodytv.org/event/planning-board-meeting-5/
LOCATION:City Hall – Wiggin Auditorium
CATEGORIES:Meetings
ORGANIZER;CN="info@peabodytv.com":MAILTO:info@peabodytv.com
END:VEVENT
BEGIN:VEVENT
DTSTART;TZID=America/New_York:20231116T190000
DTEND;TZID=America/New_York:20231116T210000
DTSTAMP:20260425T134856
CREATED:20231026T163346Z
LAST-MODIFIED:20231026T163346Z
UID:10000088-1700161200-1700168400@peabodytv.org
SUMMARY:Planning Board Meeting
DESCRIPTION:
URL:https://peabodytv.org/event/planning-board-meeting-4/
LOCATION:City Hall – Wiggin Auditorium
CATEGORIES:Meetings
ORGANIZER;CN="info@peabodytv.com":MAILTO:info@peabodytv.com
END:VEVENT
BEGIN:VEVENT
DTSTART;TZID=America/New_York:20231116T190000
DTEND;TZID=America/New_York:20231116T210000
DTSTAMP:20260425T134856
CREATED:20231026T163345Z
LAST-MODIFIED:20231117T014101Z
UID:10000098-1700161200-1700168400@peabodytv.org
SUMMARY:Planning Board Meeting
DESCRIPTION:
URL:https://peabodytv.org/event/planning-board-meeting-3/
LOCATION:City Hall – Wiggin Auditorium
CATEGORIES:Meetings
ORGANIZER;CN="info@peabodytv.com":MAILTO:info@peabodytv.com
END:VEVENT
BEGIN:VEVENT
DTSTART;TZID=America/New_York:20231102T190000
DTEND;TZID=America/New_York:20231102T210000
DTSTAMP:20260425T134856
CREATED:20231026T163343Z
LAST-MODIFIED:20231103T005613Z
UID:10000094-1698951600-1698958800@peabodytv.org
SUMMARY:Planning Board Meeting
DESCRIPTION:
URL:https://peabodytv.org/event/planning-board-meeting/
LOCATION:City Hall – Wiggin Auditorium
CATEGORIES:Meetings
ORGANIZER;CN="info@peabodytv.com":MAILTO:info@peabodytv.com
END:VEVENT
END:VCALENDAR