BEGIN:VCALENDAR
VERSION:2.0
PRODID:-//Peabody TV - ECPv6.15.14//NONSGML v1.0//EN
CALSCALE:GREGORIAN
METHOD:PUBLISH
X-WR-CALNAME:Peabody TV
X-ORIGINAL-URL:https://peabodytv.org
X-WR-CALDESC:Events for Peabody TV
REFRESH-INTERVAL;VALUE=DURATION:PT1H
X-Robots-Tag:noindex
X-PUBLISHED-TTL:PT1H
BEGIN:VTIMEZONE
TZID:America/New_York
BEGIN:DAYLIGHT
TZOFFSETFROM:-0500
TZOFFSETTO:-0400
TZNAME:EDT
DTSTART:20220313T070000
END:DAYLIGHT
BEGIN:STANDARD
TZOFFSETFROM:-0400
TZOFFSETTO:-0500
TZNAME:EST
DTSTART:20221106T060000
END:STANDARD
BEGIN:DAYLIGHT
TZOFFSETFROM:-0500
TZOFFSETTO:-0400
TZNAME:EDT
DTSTART:20230312T070000
END:DAYLIGHT
BEGIN:STANDARD
TZOFFSETFROM:-0400
TZOFFSETTO:-0500
TZNAME:EST
DTSTART:20231105T060000
END:STANDARD
BEGIN:DAYLIGHT
TZOFFSETFROM:-0500
TZOFFSETTO:-0400
TZNAME:EDT
DTSTART:20240310T070000
END:DAYLIGHT
BEGIN:STANDARD
TZOFFSETFROM:-0400
TZOFFSETTO:-0500
TZNAME:EST
DTSTART:20241103T060000
END:STANDARD
BEGIN:DAYLIGHT
TZOFFSETFROM:-0500
TZOFFSETTO:-0400
TZNAME:EDT
DTSTART:20250309T070000
END:DAYLIGHT
BEGIN:STANDARD
TZOFFSETFROM:-0400
TZOFFSETTO:-0500
TZNAME:EST
DTSTART:20251102T060000
END:STANDARD
END:VTIMEZONE
BEGIN:VEVENT
DTSTART;TZID=America/New_York:20241107T190000
DTEND;TZID=America/New_York:20241107T203000
DTSTAMP:20260425T115322
CREATED:20240716T201617Z
LAST-MODIFIED:20241108T010150Z
UID:10000394-1731006000-1731011400@peabodytv.org
SUMMARY:Planning Board Meeting
DESCRIPTION:
URL:https://peabodytv.org/event/planning-board-meeting-28/
LOCATION:FLW
CATEGORIES:Meetings
END:VEVENT
BEGIN:VEVENT
DTSTART;TZID=America/New_York:20241021T190000
DTEND;TZID=America/New_York:20241021T193000
DTSTAMP:20260425T115322
CREATED:20231026T174100Z
LAST-MODIFIED:20241021T224041Z
UID:10000172-1729537200-1729539000@peabodytv.org
SUMMARY:Zoning Board Meeting
DESCRIPTION:Mike
URL:https://peabodytv.org/event/zoning-board-meeting-13/
LOCATION:FLW
CATEGORIES:Meetings
ORGANIZER;CN="info@peabodytv.com":MAILTO:info@peabodytv.com
END:VEVENT
BEGIN:VEVENT
DTSTART;TZID=America/New_York:20241017T190000
DTEND;TZID=America/New_York:20241017T203000
DTSTAMP:20260425T115322
CREATED:20240711T211525Z
LAST-MODIFIED:20241018T001403Z
UID:10000393-1729191600-1729197000@peabodytv.org
SUMMARY:Planning Board Meeting
DESCRIPTION:
URL:https://peabodytv.org/event/planning-board-meeting-27/
LOCATION:FLW
CATEGORIES:Meetings
END:VEVENT
BEGIN:VEVENT
DTSTART;TZID=America/New_York:20241003T190000
DTEND;TZID=America/New_York:20241003T203000
DTSTAMP:20260425T115322
CREATED:20240711T211524Z
LAST-MODIFIED:20241003T234104Z
UID:10000392-1727982000-1727987400@peabodytv.org
SUMMARY:Planning Board Meeting
DESCRIPTION:
URL:https://peabodytv.org/event/planning-board-meeting-26/
LOCATION:FLW
CATEGORIES:Meetings
END:VEVENT
BEGIN:VEVENT
DTSTART;TZID=America/New_York:20240919T190000
DTEND;TZID=America/New_York:20240919T203000
DTSTAMP:20260425T115322
CREATED:20240711T211523Z
LAST-MODIFIED:20240919T235718Z
UID:10000391-1726772400-1726777800@peabodytv.org
SUMMARY:Planning Board Meeting
DESCRIPTION:
URL:https://peabodytv.org/event/planning-board-meeting-25/
LOCATION:FLW
CATEGORIES:Meetings
END:VEVENT
BEGIN:VEVENT
DTSTART;TZID=America/New_York:20240916T190000
DTEND;TZID=America/New_York:20240916T193000
DTSTAMP:20260425T115322
CREATED:20231026T174059Z
LAST-MODIFIED:20240916T222531Z
UID:10000169-1726513200-1726515000@peabodytv.org
SUMMARY:Zoning Board Meeting
DESCRIPTION:Mike
URL:https://peabodytv.org/event/zoning-board-meeting-12/
LOCATION:FLW
CATEGORIES:Meetings
ORGANIZER;CN="info@peabodytv.com":MAILTO:info@peabodytv.com
END:VEVENT
BEGIN:VEVENT
DTSTART;TZID=America/New_York:20240905T190000
DTEND;TZID=America/New_York:20240905T203000
DTSTAMP:20260425T115322
CREATED:20240711T211521Z
LAST-MODIFIED:20240906T002626Z
UID:10000390-1725562800-1725568200@peabodytv.org
SUMMARY:Planning Board Meeting
DESCRIPTION:
URL:https://peabodytv.org/event/planning-board-meeting-24/
LOCATION:FLW
CATEGORIES:Meetings
END:VEVENT
BEGIN:VEVENT
DTSTART;TZID=America/New_York:20240819T190000
DTEND;TZID=America/New_York:20240819T193000
DTSTAMP:20260425T115322
CREATED:20231026T174058Z
LAST-MODIFIED:20231214T194120Z
UID:10000166-1724094000-1724095800@peabodytv.org
SUMMARY:Zoning Board Meeting
DESCRIPTION:Mike
URL:https://peabodytv.org/event/zoning-board-meeting-11/
LOCATION:FLW
CATEGORIES:Meetings
END:VEVENT
BEGIN:VEVENT
DTSTART;TZID=America/New_York:20240815T190000
DTEND;TZID=America/New_York:20240815T203000
DTSTAMP:20260425T115322
CREATED:20240711T211520Z
LAST-MODIFIED:20240816T001124Z
UID:10000389-1723748400-1723753800@peabodytv.org
SUMMARY:Planning Board Meeting
DESCRIPTION:
URL:https://peabodytv.org/event/planning-board-meeting-22/
LOCATION:FLW
CATEGORIES:Meetings
END:VEVENT
BEGIN:VEVENT
DTSTART;TZID=America/New_York:20240815T190000
DTEND;TZID=America/New_York:20240815T203000
DTSTAMP:20260425T115322
CREATED:20240711T211520Z
LAST-MODIFIED:20240711T211520Z
UID:10000386-1723748400-1723753800@peabodytv.org
SUMMARY:Planning Board Meeting
DESCRIPTION:
URL:https://peabodytv.org/event/planning-board-meeting-23/
LOCATION:FLW
CATEGORIES:Meetings
END:VEVENT
BEGIN:VEVENT
DTSTART;TZID=America/New_York:20240801T190000
DTEND;TZID=America/New_York:20240801T203000
DTSTAMP:20260425T115322
CREATED:20240711T211519Z
LAST-MODIFIED:20240801T233107Z
UID:10000388-1722538800-1722544200@peabodytv.org
SUMMARY:Planning Board Meeting
DESCRIPTION:
URL:https://peabodytv.org/event/planning-board-meeting-21/
LOCATION:FLW
CATEGORIES:Meetings
END:VEVENT
BEGIN:VEVENT
DTSTART;TZID=America/New_York:20240801T190000
DTEND;TZID=America/New_York:20240801T203000
DTSTAMP:20260425T115322
CREATED:20240711T211519Z
LAST-MODIFIED:20240711T211519Z
UID:10000385-1722538800-1722544200@peabodytv.org
SUMMARY:Planning Board Meeting
DESCRIPTION:
URL:https://peabodytv.org/event/planning-board-meeting-20/
LOCATION:FLW
CATEGORIES:Meetings
END:VEVENT
BEGIN:VEVENT
DTSTART;TZID=America/New_York:20240718T190000
DTEND;TZID=America/New_York:20240718T203000
DTSTAMP:20260425T115322
CREATED:20240711T211519Z
LAST-MODIFIED:20240711T211519Z
UID:10000387-1721329200-1721334600@peabodytv.org
SUMMARY:Planning Board Meeting
DESCRIPTION:
URL:https://peabodytv.org/event/planning-board-meeting-19/
LOCATION:FLW
CATEGORIES:Meetings
END:VEVENT
BEGIN:VEVENT
DTSTART;TZID=America/New_York:20240718T190000
DTEND;TZID=America/New_York:20240718T203000
DTSTAMP:20260425T115322
CREATED:20240711T211518Z
LAST-MODIFIED:20240718T234057Z
UID:10000384-1721329200-1721334600@peabodytv.org
SUMMARY:Planning Board Meeting
DESCRIPTION:
URL:https://peabodytv.org/event/planning-board-meeting-18/
LOCATION:FLW
CATEGORIES:Meetings
END:VEVENT
BEGIN:VEVENT
DTSTART;TZID=America/New_York:20240715T190000
DTEND;TZID=America/New_York:20240715T193000
DTSTAMP:20260425T115322
CREATED:20231026T174058Z
LAST-MODIFIED:20240715T225646Z
UID:10000163-1721070000-1721071800@peabodytv.org
SUMMARY:Zoning Board Meeting
DESCRIPTION:Mike
URL:https://peabodytv.org/event/zoning-board-meeting-10/
LOCATION:FLW
CATEGORIES:Meetings
ORGANIZER;CN="info@peabodytv.com":MAILTO:info@peabodytv.com
END:VEVENT
BEGIN:VEVENT
DTSTART;TZID=America/New_York:20240620T190000
DTEND;TZID=America/New_York:20240620T203000
DTSTAMP:20260425T115322
CREATED:20240614T151109Z
LAST-MODIFIED:20240621T002715Z
UID:10000344-1718910000-1718915400@peabodytv.org
SUMMARY:Planning Board Meeting
DESCRIPTION:
URL:https://peabodytv.org/event/planning-board-meeting-17/
LOCATION:FLW
CATEGORIES:Meetings
END:VEVENT
BEGIN:VEVENT
DTSTART;TZID=America/New_York:20240617T190000
DTEND;TZID=America/New_York:20240617T193000
DTSTAMP:20260425T115322
CREATED:20231026T174057Z
LAST-MODIFIED:20240617T225617Z
UID:10000160-1718650800-1718652600@peabodytv.org
SUMMARY:Zoning Board Meeting
DESCRIPTION:Mike
URL:https://peabodytv.org/event/zoning-board-meeting-9/
LOCATION:FLW
CATEGORIES:Meetings
ORGANIZER;CN="info@peabodytv.com":MAILTO:info@peabodytv.com
END:VEVENT
BEGIN:VEVENT
DTSTART;TZID=America/New_York:20240520T190000
DTEND;TZID=America/New_York:20240520T193000
DTSTAMP:20260425T115322
CREATED:20231026T174056Z
LAST-MODIFIED:20240520T232702Z
UID:10000157-1716231600-1716233400@peabodytv.org
SUMMARY:Zoning Board Meeting
DESCRIPTION:Mike
URL:https://peabodytv.org/event/zoning-board-meeting-8/
LOCATION:FLW
CATEGORIES:Meetings
ORGANIZER;CN="info@peabodytv.com":MAILTO:info@peabodytv.com
END:VEVENT
BEGIN:VEVENT
DTSTART;TZID=America/New_York:20240422T190000
DTEND;TZID=America/New_York:20240422T193000
DTSTAMP:20260425T115322
CREATED:20231026T174054Z
LAST-MODIFIED:20240422T232623Z
UID:10000154-1713812400-1713814200@peabodytv.org
SUMMARY:Zoning Board Meeting
DESCRIPTION:Mike
URL:https://peabodytv.org/event/zoning-board-meeting-7/
LOCATION:FLW
CATEGORIES:Meetings
END:VEVENT
BEGIN:VEVENT
DTSTART;TZID=America/New_York:20240318T190000
DTEND;TZID=America/New_York:20240318T193000
DTSTAMP:20260425T115322
CREATED:20231026T174053Z
LAST-MODIFIED:20240318T225633Z
UID:10000151-1710788400-1710790200@peabodytv.org
SUMMARY:Zoning Board Meeting
DESCRIPTION:Mike
URL:https://peabodytv.org/event/zoning-board-meeting-6/
LOCATION:FLW
CATEGORIES:Meetings
END:VEVENT
BEGIN:VEVENT
DTSTART;TZID=America/New_York:20240212T190000
DTEND;TZID=America/New_York:20240212T193000
DTSTAMP:20260425T115322
CREATED:20231026T174052Z
LAST-MODIFIED:20240117T204119Z
UID:10000148-1707764400-1707766200@peabodytv.org
SUMMARY:Zoning Board Meeting
DESCRIPTION:Mike
URL:https://peabodytv.org/event/zoning-board-meeting-5/
LOCATION:FLW
CATEGORIES:Meetings
END:VEVENT
BEGIN:VEVENT
DTSTART;TZID=America/New_York:20240122T190000
DTEND;TZID=America/New_York:20240122T193000
DTSTAMP:20260425T115322
CREATED:20231026T174051Z
LAST-MODIFIED:20240117T204117Z
UID:10000145-1705950000-1705951800@peabodytv.org
SUMMARY:Zoning Board Meeting
DESCRIPTION:Mike
URL:https://peabodytv.org/event/zoning-board-meeting-4/
LOCATION:FLW
CATEGORIES:Meetings
END:VEVENT
BEGIN:VEVENT
DTSTART;TZID=America/New_York:20231218T190000
DTEND;TZID=America/New_York:20231218T193000
DTSTAMP:20260425T115322
CREATED:20231026T174050Z
LAST-MODIFIED:20231219T001149Z
UID:10000142-1702926000-1702927800@peabodytv.org
SUMMARY:Zoning Board Meeting
DESCRIPTION:Mike
URL:https://peabodytv.org/event/zoning-board-meeting-3/
LOCATION:FLW
CATEGORIES:Meetings
END:VEVENT
BEGIN:VEVENT
DTSTART;TZID=America/New_York:20231120T190000
DTEND;TZID=America/New_York:20231120T193000
DTSTAMP:20260425T115322
CREATED:20231026T174048Z
LAST-MODIFIED:20231026T174048Z
UID:10000136-1700506800-1700508600@peabodytv.org
SUMMARY:Zoning Board Meeting
DESCRIPTION:Mike
URL:https://peabodytv.org/event/zoning-board-meeting-2/
LOCATION:FLW
CATEGORIES:Meetings
END:VEVENT
BEGIN:VEVENT
DTSTART;TZID=America/New_York:20231120T190000
DTEND;TZID=America/New_York:20231120T193000
DTSTAMP:20260425T115322
CREATED:20231026T174048Z
LAST-MODIFIED:20231121T002537Z
UID:10000139-1700506800-1700508600@peabodytv.org
SUMMARY:Zoning Board Meeting
DESCRIPTION:Mike
URL:https://peabodytv.org/event/zoning-board-meeting/
LOCATION:FLW
CATEGORIES:Meetings
END:VEVENT
END:VCALENDAR